BEGIN:VCALENDAR
VERSION:2.0
PRODID:-//Veterinary.co.za - ECPv6.2.3.2//NONSGML v1.0//EN
CALSCALE:GREGORIAN
METHOD:PUBLISH
X-WR-CALNAME:Veterinary.co.za
X-ORIGINAL-URL:https://veterinary.co.za
X-WR-CALDESC:Events for Veterinary.co.za
REFRESH-INTERVAL;VALUE=DURATION:PT1H
X-Robots-Tag:noindex
X-PUBLISHED-TTL:PT1H
BEGIN:VTIMEZONE
TZID:Europe/Helsinki
BEGIN:DAYLIGHT
TZOFFSETFROM:+0200
TZOFFSETTO:+0300
TZNAME:EEST
DTSTART:20240331T010000
END:DAYLIGHT
BEGIN:STANDARD
TZOFFSETFROM:+0300
TZOFFSETTO:+0200
TZNAME:EET
DTSTART:20241027T010000
END:STANDARD
END:VTIMEZONE
BEGIN:VEVENT
DTSTART;TZID=Europe/Helsinki:20241106T080000
DTEND;TZID=Europe/Helsinki:20241108T170000
DTSTAMP:20260422T010227
CREATED:20240530T204550Z
LAST-MODIFIED:20240711T184613Z
UID:10000076-1730880000-1731085200@veterinary.co.za
SUMMARY:Poultry Group of SAVA Annual Congress - Save the Date
DESCRIPTION:Subject: Poultry Group of SAVA Annual Congress\nSpeakers: Multiple\nOrganizer: Savetcon\nEvent Link: REGISTER HERE \nOn behalf of the Poultry Group of SAVA I am deeply pleased to invite your participation at our annual congress to be held at 26 Degrees South in Muldersdrift\, Gauteng. \nI am looking forward to a productive and interactive congress and am confident that you will all enjoy and contribute to the Poultry Group of SAVA Annual Congress. \nYou are welcome to contact our Congress Secretariat to discuss your requirements for your participation at the Poultry Congress. \nWilhelm Maré\nPoultry Congress of SAVA 2024 Chairperson \n 
URL:https://veterinary.co.za/event-main/poultry-group-of-sava-annual-congress/
LOCATION:26 Degrees South\, Muldersdrift\, Gauteng\, Beyers Naude Drive Zwartkops\, Muldersdrift\, Gauteng\, 1747\, South Africa
CATEGORIES:In-Person Event
ATTACH;FMTTYPE=image/jpeg:https://veterinary.co.za/wp-content/uploads/2024/05/sava-poultry-congress-1-scaled.jpg
END:VEVENT
END:VCALENDAR