BEGIN:VCALENDAR
VERSION:2.0
PRODID:-//Veterinary.co.za - ECPv6.2.3.2//NONSGML v1.0//EN
CALSCALE:GREGORIAN
METHOD:PUBLISH
X-WR-CALNAME:Veterinary.co.za
X-ORIGINAL-URL:https://veterinary.co.za
X-WR-CALDESC:Events for Veterinary.co.za
REFRESH-INTERVAL;VALUE=DURATION:PT1H
X-Robots-Tag:noindex
X-PUBLISHED-TTL:PT1H
BEGIN:VTIMEZONE
TZID:Europe/Helsinki
BEGIN:DAYLIGHT
TZOFFSETFROM:+0200
TZOFFSETTO:+0300
TZNAME:EEST
DTSTART:20240331T010000
END:DAYLIGHT
BEGIN:STANDARD
TZOFFSETFROM:+0300
TZOFFSETTO:+0200
TZNAME:EET
DTSTART:20241027T010000
END:STANDARD
END:VTIMEZONE
BEGIN:VEVENT
DTSTART;TZID=Europe/Helsinki:20241002T190000
DTEND;TZID=Europe/Helsinki:20241002T203000
DTSTAMP:20260422T010114
CREATED:20240430T071129Z
LAST-MODIFIED:20241003T214612Z
UID:10000054-1727895600-1727901000@veterinary.co.za
SUMMARY:SAVA JHB Branch: RAAS Inhibition in The Treatment of Heart Failure in Dogs
DESCRIPTION:Subject: RAAS Inhibition in The Treatment of Heart Failure in Dogs\nSpeakers: Prof Johan Schoeman\nOrganizer: SAVA JHB Branch\nEvent Link: REGISTER HERE \nIN PERSON EVENT | 19:00 CAT | Johannesburg Country Club\, Woodmead \nSpeaker: Prof Johan Schoeman| Topic: RAAS Inhibition in The Treatment of Heart Failure in Dogs | Proudly Sponsored by Ceva \n\n 
URL:https://veterinary.co.za/event-main/sava-jhb-branch-dermatology/
LOCATION:Johannesburg Country Club\, Woodmead\, Gauteng\, Cnr Woodland Drive & Lincoln Street\, Woodmead\, Sandton\, 2128\, Johannesburg\, Gauteng\, South Africa
CATEGORIES:In-Person Event
ATTACH;FMTTYPE=image/jpeg:https://veterinary.co.za/wp-content/uploads/2024/04/SAVA-JHB-branch1-1.jpg
END:VEVENT
BEGIN:VEVENT
DTSTART;TZID=Europe/Helsinki:20241005T080000
DTEND;TZID=Europe/Helsinki:20241006T160000
DTSTAMP:20260422T010114
CREATED:20240430T072138Z
LAST-MODIFIED:20240605T194219Z
UID:10000055-1728115200-1728230400@veterinary.co.za
SUMMARY:Northern Natal Branch of the SAVA Congress 2024
DESCRIPTION:Subject: Northern Natal Branch of the SAVA Congress 2024\nSpeakers: Multiple Speakers\nOrganizer: Vetlink\nEvent Link: REGISTER HERE \nThe Northern Natal Branch Congress 2024\, scheduled for 5 & 6 October 2024 at Lythwood Lodge\, KZN Midlands\, is organised to provide CPD to veterinarians\, reconnect with industry colleagues and friends and provide opportunity to be updated on developments from our trade partners
URL:https://veterinary.co.za/event-main/northern-natal-branch-of-the-sava-congress-2024/
LOCATION:Lythwood Lodge\, Midlands\, KwaZulu-Natal\, Farm 37\, Lidgetton West\, 3270\, Howick\, KwaZulu-Natal\, 3270\, South Africa
CATEGORIES:In-Person Event
ATTACH;FMTTYPE=image/jpeg:https://veterinary.co.za/wp-content/uploads/2024/04/SAVA-KZN-Midlands-1.jpg
END:VEVENT
BEGIN:VEVENT
DTSTART;TZID=Europe/Helsinki:20241005T130000
DTEND;TZID=Europe/Helsinki:20241005T160000
DTSTAMP:20260422T010114
CREATED:20240828T191957Z
LAST-MODIFIED:20240828T192824Z
UID:10000110-1728133200-1728144000@veterinary.co.za
SUMMARY:KZN Veterinary Receptionists Lunch & Learn
DESCRIPTION:Subject: KZN Veterinary Receptionists Lunch & Learn\nSpeakers: Desire Rees & Others\nOrganizer: Purina & MSD\nEvent Link: REGISTER HERE \nTo all the paw-some *KZN Veterinary Receptionist* we would like to invite you to a *Lunch and Learn on all things Feline!*\nWe will bring you a fabulously feline fun afternoon learning all aspects on cats and their human servants- because as every cat owner knows\, nobody owns a cat.\n_”Time spent with cats is never wasted.” –Sigmund Freud._\nWe are also excited to welcome guest speaker Desire Rees\nwho will be presenting on how to create the practice culture you want to work in. How to get the purr-fect work environment for you and your teams.\n_”Dogs eat. Cats dine.”_ a most delicious harvest table lunch is included.\nWe hope to see you all there! Limited seats available\, booking is essential- book now on Quicket….. _Link &QR code_\nEmail lauren@midlandsvet.co.za for any enquiries and dietary requests.\n💛NB don’t forget to have some fun and rock a little leopard print 🐆\n_”What greater gift than the love of a cat.” –Charles Dickens_
URL:https://veterinary.co.za/event-main/kzn-veterinary-receptionists-lunch-learn/
LOCATION:Kranzkloof Conference Centre\, Kloof\, KwaZulu-Natal\, 156 Kloof Falls Rd\, Kloof\, KwaZulu-Natal\, 3610\, South Africa
CATEGORIES:In-Person Event
ATTACH;FMTTYPE=image/jpeg:https://veterinary.co.za/wp-content/uploads/2024/08/purina-receptionist-scaled.jpg
END:VEVENT
BEGIN:VEVENT
DTSTART;TZID=Europe/Helsinki:20241009T080000
DTEND;TZID=Europe/Helsinki:20241010T170000
DTSTAMP:20260422T010114
CREATED:20240524T214811Z
LAST-MODIFIED:20240524T215035Z
UID:10000074-1728460800-1728579600@veterinary.co.za
SUMMARY:South African Association of Veterinary Technologists (SAAVT) 2024 Congress
DESCRIPTION:Subject: Changes and Challenges for the Advancement of Veterinary Technology\nSpeakers: Multiple\nOrganizer: Savetcon\nEvent Link: REGISTER HERE \nBiennial Congress of the South African Association of Veterinary Technologists\n9-10 October 2024 | 26 Degrees South Muldersdrift \nOn behalf of the South African Association of Veterinary Technologists (SAAVT) we are pleased to invite your participation at the SAAVT 2024 Congress to be held at 26 Degrees South in Muldersdrift\, Gauteng. \nThe SAAVT 2024 Congress will be held under the theme ‘Chances and challenges for the advancement of Veterinary Technology’. \nWe are looking forward to a productive and interactive Congress and are confident that you will all enjoy and contribute to the SAAVT 2024 Congress. \nYou are welcome to contact our Congress Secretariat to discuss your requirements for your participation at the SAAVT 2024 Congress. \nWith warm regards\, \nAbsalom Makhubela\nCongress Chairperson
URL:https://veterinary.co.za/event-main/south-african-association-of-veterinary-technologists-saavt-2024-congress/
LOCATION:26 Degrees South\, Muldersdrift\, Gauteng\, Beyers Naude Drive Zwartkops\, Muldersdrift\, Gauteng\, 1747\, South Africa
CATEGORIES:In-Person Event
ATTACH;FMTTYPE=image/jpeg:https://veterinary.co.za/wp-content/uploads/2024/05/saavt.jpg
END:VEVENT
BEGIN:VEVENT
DTSTART;TZID=Europe/Helsinki:20241010T193000
DTEND;TZID=Europe/Helsinki:20241010T210000
DTSTAMP:20260422T010114
CREATED:20241003T221557Z
LAST-MODIFIED:20241003T221703Z
UID:10000115-1728588600-1728594000@veterinary.co.za
SUMMARY:Hill's Vet Webinar #8 - Ultrasonography Lucky Packet
DESCRIPTION:Subject: Hill’s Vet Webinar #8 – Ultrasonography Lucky Packet\nSpeakers: Dr Nicolene Hoepner\nOrganizer: Savetcon\nEvent Link: REGISTER HERE \nFrom image optimisation\, through optimising certain organs / structures\, to interpretation\, bring a friend\, your ultrasound machine\, and possibly a patient to learn some tips and tricks for ultrasonography! \nAbout our speaker \nDr Nicolene Hoepner BVSc\, BVSc(Hons)\, MMedVet \nI completed my BVSc degree in 2012 at the University of Pretoria. Thereafter I worked at an equine referral practice for approximately 3 and a half years. In 2017 I returned to the faculty as a clinical lecturer while completing my BVSc Honours degree. Meeting the requirements for an MMedVet in Diagnostic Imaging\, I (finally!) graduated in May 2024.
URL:https://veterinary.co.za/event-main/hills-vet-webinar-8-ultrasonography-lucky-packet/
LOCATION:Webinar\, *Online\, South Africa
CATEGORIES:*Webinar
ATTACH;FMTTYPE=image/jpeg:https://veterinary.co.za/wp-content/uploads/2024/06/hills-enrichment-series.jpg
END:VEVENT
BEGIN:VEVENT
DTSTART;TZID=Europe/Helsinki:20241016T190000
DTEND;TZID=Europe/Helsinki:20241016T203000
DTSTAMP:20260422T010114
CREATED:20241006T220658Z
LAST-MODIFIED:20241007T213736Z
UID:10000119-1729105200-1729110600@veterinary.co.za
SUMMARY:Butorphanol in the Wild: Advancing Anaesthetic Protocols
DESCRIPTION:Subject: Butorphanol in the Wild: Advancing Anaesthetic Protocols\nSpeakers: Dr Keith Meyer\nOrganizer: Vetlink\nEvent Link: REGISTER HERE \nProf Leith Meyer is currently the Director of the Centre for Veterinary Wildlife Research and a Professor at the University of Pretoria. His qualifications include a PhD in Physiology (Wits)\, a Veterinary Degree (BVSc – UP) and a Science Honours Degree in Wildlife Management (BSc Hon – UP). His research activities are mainly dedicated to wildlife conservation medicine\, pharmacology and physiology\, and veterinary management of wildlife. He has published more than 120 research papers and 8 chapters in books mainly in these fields. He is also an author on the latest edition of the Handbook for Wildlife Chemical Immobilization. His research interests include improving health and welfare\, and better understanding the physiological consequences\, of veterinary management procedures in wildlife\, particularly when they are captured\, translocated\, reintroduced\, rehabilitated or anaesthetised. He also has an interest in temperature regulation and the ecophysiology of free-living mammals\, with a particular focus on how climate change influences these animals. His primary research interest is in discovery novel ways of reducing the side-effects of wildlife capture to improve animal health and welfare. \n 
URL:https://veterinary.co.za/event-main/butrophanol-in-the-wild-advancing-anaesthetic-protocols/
LOCATION:Webinar\, *Online\, South Africa
CATEGORIES:*Webinar
ATTACH;FMTTYPE=image/jpeg:https://veterinary.co.za/wp-content/uploads/2024/06/wildlife-pharmaceuticals-webinar-series-scaled.jpg
END:VEVENT
BEGIN:VEVENT
DTSTART;TZID=Europe/Helsinki:20241023T193000
DTEND;TZID=Europe/Helsinki:20241023T210000
DTSTAMP:20260422T010114
CREATED:20241006T215304Z
LAST-MODIFIED:20241018T132522Z
UID:10000118-1729711800-1729717200@veterinary.co.za
SUMMARY:EP4 antagonist - An important tool in managing chronic OA pain & inflammation in our patients
DESCRIPTION:Subject: EP4 antagonist – An important tool in managing chronic OA pain & inflammation in our patients\nSpeakers: Dr Kenneth Joubert\nOrganizer: Savetcon\nEvent Link: REGISTER HERE \nDr Kenneth Joubert will be presenting on: EP4 antagonist – An important tool in managing chronic OA pain & inflammation in our patients. \nYou can register for either Session 1 at 12h30 or Session 2 at 19h30 (which will be a repeat of Session 1). Click on the date and time block at the top of the page to choose your timeslot. \nStay until the end of the webinar and stand a chance to win a Littman Classic Stethoscope! \nProudly hosted by Elanco \nKenneth Joubert\nVeterinary Anaesthesia\, Analgesia & Critical Care Services\nKenneth has published 42 scientific publications\, delivered 87 scientific presentations\, delivered 162 continuing education talks\, done 16 multimedia presentations\, published 39 non-scientific articles\, presented 9 courses\, written one book chapter and attended 66 congress of continuing education. Kenneth currently runs a private practice dedicated to anaesthesia\, analgesia and intensive care. He has regularly examined students in pharmacology\, anaesthesiology and clinical studies. Kenneth has a keen interest in total intravenous anaesthesia\, intensive care\, ventilation and cardiology. His research interests include non-steroidal anti-inflammatory agents\, anaesthetic depth monitoring and total intra-venous anaesthesia.
URL:https://veterinary.co.za/event-main/ep4-antagonist-an-important-tool-in-managing-chronic-oa-pain-inflammation-in-our-patients/
LOCATION:Webinar\, *Online\, South Africa
CATEGORIES:*Webinar
ATTACH;FMTTYPE=image/jpeg:https://veterinary.co.za/wp-content/uploads/2024/10/elanco-ep4-1.jpg
END:VEVENT
BEGIN:VEVENT
DTSTART;TZID=Europe/Helsinki:20241024T190000
DTEND;TZID=Europe/Helsinki:20241024T203000
DTSTAMP:20260422T010114
CREATED:20241015T105159Z
LAST-MODIFIED:20241016T023900Z
UID:10000123-1729796400-1729801800@veterinary.co.za
SUMMARY:Practical Approach to Feline Hydration
DESCRIPTION:Subject: Practical Approach to Feline Hydration\nSpeakers: Dr Andy Sparkes\nOrganizer: Purina\nEvent Link: REGISTER HERE \nStrategies to optimize voluntary water intake of cats\, and the subsequent production of less concentrated urine\, can be important to the long-term management of some feline diseases. However\, few of the commonly recommended strategies are supported with evidence. This lecture will cover what is known to be helpful\, what appears to be unsuccessful\, and what remains speculative. \nLearning outcomes:\n• Understand water balance and thirst drive in cats.\n• Understand the importance and relevance of water intake in managing lower urinary tract disease.\n• Understand the influence of dietary moisture on water intake and hydration.\n• Understand the evidence behind different strategies to optimize voluntary water intake. \nOnly the live webinar has been approved for 1 credit of continuing education in jurisdictions that recognize RACE approval. \nA Certificate of Attendance will be available for those who do not need a RACE CE certificate or those who view the program on demand.
URL:https://veterinary.co.za/event-main/a-practical-approach-to-feline-hydration/
LOCATION:Webinar\, *Online\, South Africa
CATEGORIES:*Webinar
ATTACH;FMTTYPE=image/jpeg:https://veterinary.co.za/wp-content/uploads/2024/10/purina-feline-hydration-scaled.jpg
END:VEVENT
BEGIN:VEVENT
DTSTART;TZID=Europe/Helsinki:20241025T090000
DTEND;TZID=Europe/Helsinki:20241026T170000
DTSTAMP:20260422T010114
CREATED:20241003T222915Z
LAST-MODIFIED:20241003T223004Z
UID:10000116-1729846800-1729962000@veterinary.co.za
SUMMARY:Hill's Global Symposium 2024
DESCRIPTION:Subject: Nourish the Gut\, Nurture the Future\nSpeakers: Multiple\nOrganizer: Hill’s Pet Nutrition\nEvent Link: REGISTER HERE \nGroundbreaking insights from some of the most prominent experts in the field of gut microbiome and organ connection. \n 
URL:https://veterinary.co.za/event-main/hills-global-symposium-2024/
LOCATION:Webinar\, *Online\, South Africa
CATEGORIES:*Webinar
ATTACH;FMTTYPE=image/jpeg:https://veterinary.co.za/wp-content/uploads/2024/10/hills-global-symposium.jpg
END:VEVENT
BEGIN:VEVENT
DTSTART;TZID=Europe/Helsinki:20241030T193000
DTEND;TZID=Europe/Helsinki:20241030T210000
DTSTAMP:20260422T010114
CREATED:20241015T070232Z
LAST-MODIFIED:20241015T104505Z
UID:10000122-1730316600-1730322000@veterinary.co.za
SUMMARY:Solensia Launch - A New Era In Pain Management for Cats
DESCRIPTION:Subject: Solensia Launch – A New Era In Pain Management for Cats\nSpeakers: Prof Duncan Loscelles\nOrganizer: Zoetis\nEvent Link: REGISTER HERE \nSolensia Launch presented by Prof Duncan Lascelles and chaired by Dr Kenneth Joubert \n 
URL:https://veterinary.co.za/event-main/solensia-launch/
LOCATION:Webinar\, *Online\, South Africa
CATEGORIES:*Webinar
ATTACH;FMTTYPE=image/jpeg:https://veterinary.co.za/wp-content/uploads/2024/10/solensia-launch-scaled.jpg
END:VEVENT
BEGIN:VEVENT
DTSTART;TZID=Europe/Helsinki:20241031T073000
DTEND;TZID=Europe/Helsinki:20241102T170000
DTSTAMP:20260422T010114
CREATED:20240430T074445Z
LAST-MODIFIED:20240524T211126Z
UID:10000058-1730359800-1730566800@veterinary.co.za
SUMMARY:International Association of Veterinary Rehabilitation and Physical Therapy (IAVRPT): 12th Symposium 2024
DESCRIPTION:Subject: 12th IAVRPT Symposium 2024\nSpeakers: Multiple Speakers\nOrganizer: Vetlink\nEvent Link: REGISTER HERE \nThe 12th Symposium for the International Association of Veterinary Rehabilitation and Physical Therapy is to be held between Thursday 31 October – 2 November 2024 in Cape Town\, one of the most beautiful cities in South Africa. We will also be offering a virtual experience to delegates who are unable to attend in person. \nThe International Association of Veterinary Rehabilitation and Physical Therapy (IAVRPT) is an organisation bringing together scientists\, educators\, clinicians\, and policymakers to stimulate and support the study of veterinary rehabilitation and physical therapy and to translate that knowledge into improved animal rehabilitation worldwide. \nThe IAVRPT Symposium is hosted by SAAPRA With 3 days of world-class lectures with small animal and equine streams running side by side\, this symposium will serve as a strong networking platform to build and foster collaborative research and enhance communication between the academic field and clinical practice. Pre-symposium Equine and Canine wet labs will also be available. \nWetlab Wednesday 30 October \nConference days: Thursday 31st October to Saturday\, 2nd November 2024 | Hybrid Event \nIMPORTANT DATES\nAbstracts closes: 15 May 2024 (Notifications to authors 15 June 2024)\nProgramme Announced: 15 April 2024\nEarly Bird Registration closes: 01 June 2024
URL:https://veterinary.co.za/event-main/12th-iavrpt-symposium-2024/
LOCATION:Lord Charles Hotel\, Somerset West\, Western Cape\, Corner of Broadway Boulevards and\, Main Rd\, Somerset West\, Western Cape\, 7130\, South Africa
CATEGORIES:Combined Event
ATTACH;FMTTYPE=image/jpeg:https://veterinary.co.za/wp-content/uploads/2024/04/IAVRPT-Symposium-1.jpg
END:VEVENT
END:VCALENDAR