BEGIN:VCALENDAR
VERSION:2.0
PRODID:-//Veterinary.co.za - ECPv6.2.3.2//NONSGML v1.0//EN
CALSCALE:GREGORIAN
METHOD:PUBLISH
X-WR-CALNAME:Veterinary.co.za
X-ORIGINAL-URL:https://veterinary.co.za
X-WR-CALDESC:Events for Veterinary.co.za
REFRESH-INTERVAL;VALUE=DURATION:PT1H
X-Robots-Tag:noindex
X-PUBLISHED-TTL:PT1H
BEGIN:VTIMEZONE
TZID:Europe/Helsinki
BEGIN:DAYLIGHT
TZOFFSETFROM:+0200
TZOFFSETTO:+0300
TZNAME:EEST
DTSTART:20240331T010000
END:DAYLIGHT
BEGIN:STANDARD
TZOFFSETFROM:+0300
TZOFFSETTO:+0200
TZNAME:EET
DTSTART:20241027T010000
END:STANDARD
END:VTIMEZONE
BEGIN:VEVENT
DTSTART;TZID=Europe/Helsinki:20241025T090000
DTEND;TZID=Europe/Helsinki:20241026T170000
DTSTAMP:20260422T023254
CREATED:20241003T222915Z
LAST-MODIFIED:20241003T223004Z
UID:10000116-1729846800-1729962000@veterinary.co.za
SUMMARY:Hill's Global Symposium 2024
DESCRIPTION:Subject: Nourish the Gut\, Nurture the Future\nSpeakers: Multiple\nOrganizer: Hill’s Pet Nutrition\nEvent Link: REGISTER HERE \nGroundbreaking insights from some of the most prominent experts in the field of gut microbiome and organ connection. \n 
URL:https://veterinary.co.za/event-main/hills-global-symposium-2024/
LOCATION:Webinar\, *Online\, South Africa
CATEGORIES:*Webinar
ATTACH;FMTTYPE=image/jpeg:https://veterinary.co.za/wp-content/uploads/2024/10/hills-global-symposium.jpg
END:VEVENT
END:VCALENDAR