BEGIN:VCALENDAR
VERSION:2.0
PRODID:-//Veterinary.co.za - ECPv6.2.3.2//NONSGML v1.0//EN
CALSCALE:GREGORIAN
METHOD:PUBLISH
X-ORIGINAL-URL:https://veterinary.co.za
X-WR-CALDESC:Events for Veterinary.co.za
REFRESH-INTERVAL;VALUE=DURATION:PT1H
X-Robots-Tag:noindex
X-PUBLISHED-TTL:PT1H
BEGIN:VTIMEZONE
TZID:Europe/Helsinki
BEGIN:DAYLIGHT
TZOFFSETFROM:+0200
TZOFFSETTO:+0300
TZNAME:EEST
DTSTART:20240331T010000
END:DAYLIGHT
BEGIN:STANDARD
TZOFFSETFROM:+0300
TZOFFSETTO:+0200
TZNAME:EET
DTSTART:20241027T010000
END:STANDARD
END:VTIMEZONE
BEGIN:VEVENT
DTSTART;TZID=Europe/Helsinki:20241023T193000
DTEND;TZID=Europe/Helsinki:20241023T210000
DTSTAMP:20260422T023554
CREATED:20241006T215304Z
LAST-MODIFIED:20241018T132522Z
UID:10000118-1729711800-1729717200@veterinary.co.za
SUMMARY:EP4 antagonist - An important tool in managing chronic OA pain & inflammation in our patients
DESCRIPTION:Subject: EP4 antagonist – An important tool in managing chronic OA pain & inflammation in our patients\nSpeakers: Dr Kenneth Joubert\nOrganizer: Savetcon\nEvent Link: REGISTER HERE \nDr Kenneth Joubert will be presenting on: EP4 antagonist – An important tool in managing chronic OA pain & inflammation in our patients. \nYou can register for either Session 1 at 12h30 or Session 2 at 19h30 (which will be a repeat of Session 1). Click on the date and time block at the top of the page to choose your timeslot. \nStay until the end of the webinar and stand a chance to win a Littman Classic Stethoscope! \nProudly hosted by Elanco \nKenneth Joubert\nVeterinary Anaesthesia\, Analgesia & Critical Care Services\nKenneth has published 42 scientific publications\, delivered 87 scientific presentations\, delivered 162 continuing education talks\, done 16 multimedia presentations\, published 39 non-scientific articles\, presented 9 courses\, written one book chapter and attended 66 congress of continuing education. Kenneth currently runs a private practice dedicated to anaesthesia\, analgesia and intensive care. He has regularly examined students in pharmacology\, anaesthesiology and clinical studies. Kenneth has a keen interest in total intravenous anaesthesia\, intensive care\, ventilation and cardiology. His research interests include non-steroidal anti-inflammatory agents\, anaesthetic depth monitoring and total intra-venous anaesthesia.
URL:https://veterinary.co.za/event-main/ep4-antagonist-an-important-tool-in-managing-chronic-oa-pain-inflammation-in-our-patients/
LOCATION:Webinar\, *Online\, South Africa
CATEGORIES:*Webinar
ATTACH;FMTTYPE=image/jpeg:https://veterinary.co.za/wp-content/uploads/2024/10/elanco-ep4-1.jpg
END:VEVENT
END:VCALENDAR