BEGIN:VCALENDAR
VERSION:2.0
PRODID:-//Veterinary.co.za - ECPv6.2.3.2//NONSGML v1.0//EN
CALSCALE:GREGORIAN
METHOD:PUBLISH
X-ORIGINAL-URL:https://veterinary.co.za
X-WR-CALDESC:Events for Veterinary.co.za
REFRESH-INTERVAL;VALUE=DURATION:PT1H
X-Robots-Tag:noindex
X-PUBLISHED-TTL:PT1H
BEGIN:VTIMEZONE
TZID:Europe/Helsinki
BEGIN:DAYLIGHT
TZOFFSETFROM:+0200
TZOFFSETTO:+0300
TZNAME:EEST
DTSTART:20240331T010000
END:DAYLIGHT
BEGIN:STANDARD
TZOFFSETFROM:+0300
TZOFFSETTO:+0200
TZNAME:EET
DTSTART:20241027T010000
END:STANDARD
END:VTIMEZONE
BEGIN:VEVENT
DTSTART;TZID=Europe/Helsinki:20241002T190000
DTEND;TZID=Europe/Helsinki:20241002T203000
DTSTAMP:20260422T023730
CREATED:20240430T071129Z
LAST-MODIFIED:20241003T214612Z
UID:10000054-1727895600-1727901000@veterinary.co.za
SUMMARY:SAVA JHB Branch: RAAS Inhibition in The Treatment of Heart Failure in Dogs
DESCRIPTION:Subject: RAAS Inhibition in The Treatment of Heart Failure in Dogs\nSpeakers: Prof Johan Schoeman\nOrganizer: SAVA JHB Branch\nEvent Link: REGISTER HERE \nIN PERSON EVENT | 19:00 CAT | Johannesburg Country Club\, Woodmead \nSpeaker: Prof Johan Schoeman| Topic: RAAS Inhibition in The Treatment of Heart Failure in Dogs | Proudly Sponsored by Ceva \n\n 
URL:https://veterinary.co.za/event-main/sava-jhb-branch-dermatology/
LOCATION:Johannesburg Country Club\, Woodmead\, Gauteng\, Cnr Woodland Drive & Lincoln Street\, Woodmead\, Sandton\, 2128\, Johannesburg\, Gauteng\, South Africa
CATEGORIES:In-Person Event
ATTACH;FMTTYPE=image/jpeg:https://veterinary.co.za/wp-content/uploads/2024/04/SAVA-JHB-branch1-1.jpg
END:VEVENT
END:VCALENDAR