BEGIN:VCALENDAR
VERSION:2.0
PRODID:-//Veterinary.co.za - ECPv6.2.3.2//NONSGML v1.0//EN
CALSCALE:GREGORIAN
METHOD:PUBLISH
X-WR-CALNAME:Veterinary.co.za
X-ORIGINAL-URL:https://veterinary.co.za
X-WR-CALDESC:Events for Veterinary.co.za
REFRESH-INTERVAL;VALUE=DURATION:PT1H
X-Robots-Tag:noindex
X-PUBLISHED-TTL:PT1H
BEGIN:VTIMEZONE
TZID:Europe/Helsinki
BEGIN:DAYLIGHT
TZOFFSETFROM:+0200
TZOFFSETTO:+0300
TZNAME:EEST
DTSTART:20240331T010000
END:DAYLIGHT
BEGIN:STANDARD
TZOFFSETFROM:+0300
TZOFFSETTO:+0200
TZNAME:EET
DTSTART:20241027T010000
END:STANDARD
END:VTIMEZONE
BEGIN:VEVENT
DTSTART;TZID=Europe/Helsinki:20240831T100000
DTEND;TZID=Europe/Helsinki:20240901T140000
DTSTAMP:20260422T023131
CREATED:20240821T192536Z
LAST-MODIFIED:20240830T161446Z
UID:10000107-1725098400-1725199200@veterinary.co.za
SUMMARY:Boehringer Ingelheim Animal Health Event - Changing the Face of Feline Care! [Cape Town]
DESCRIPTION:Subject: Boehringer Ingelheim Animal Health Event – Changing the Face of Feline Care!\nSpeakers: Multiple\nOrganizer: Boehringer Ingelheim\nEvent Link: REGISTER HERE \nDear Valued Partner\, Boehringer-Ingelheim Animal Health is excited to invite you to this event which will be the perfect occasion to exchange ideas\, connect with peers\, and experience two days of compelling insights and valuable knowledge\, highlighted by a memorable Saturday night. \nEvent Overview:\nThe next generation of parasite control is ready to pounce. Join us for an extra-ordinary event that delves into the captivating world of feline ecto- and endoparasites\, introducing a ground-breaking solution in feline care. By bringing together global veterinary professionals and experts\, this momentous occasion will be a journey of discovery and innovation.\nDiscover our all-in-one solution that offers unparalleled protection.\nWe have also planned insightful sessions that promise to enhance your self-mastery and elevate your practice to new heights. \nWe look forward to you joining us on this momentous occasion. \nLimited to the first 80 respondents.
URL:https://veterinary.co.za/event-main/boehringer-ingelheim-animal-health-event-changing-the-face-of-feline-care/
LOCATION:The Vineyard Hotel\, Cape Town\, Western Cape\, Colinton Rd\, Newlands\, Cape Town\, Western Cape\, 7700\, South Africa
CATEGORIES:In-Person Event
ATTACH;FMTTYPE=image/jpeg:https://veterinary.co.za/wp-content/uploads/2024/08/boehringer-ingelheim-product-launch.jpg
END:VEVENT
BEGIN:VEVENT
DTSTART;TZID=Europe/Helsinki:20240903T183000
DTEND;TZID=Europe/Helsinki:20240903T213000
DTSTAMP:20260422T023131
CREATED:20240830T160309Z
LAST-MODIFIED:20240830T161520Z
UID:10000112-1725388200-1725399000@veterinary.co.za
SUMMARY:Boehringer Ingelheim Animal Health Event - Changing the Face of Feline Care! [Durban]
DESCRIPTION:Subject: Boehringer Ingelheim Animal Health Event – Changing the Face of Feline Care!\nSpeakers: Multiple\nOrganizer: Boehringer Ingelheim\nEvent Link: REGISTER HERE \nDear Valued Partner\, Boehringer-Ingelheim Animal Health is excited to invite you to this event which will be the perfect occasion to exchange ideas\, connect with peers\, and experience two days of compelling insights and valuable knowledge\, highlighted by a memorable Saturday night. \nEvent Overview:\nThe next generation of parasite control is ready to pounce. Join us for an extra-ordinary event that delves into the captivating world of feline ecto- and endoparasites\, introducing a ground-breaking solution in feline care. By bringing together global veterinary professionals and experts\, this momentous occasion will be a journey of discovery and innovation.\nDiscover our all-in-one solution that offers unparalleled protection.\nWe have also planned insightful sessions that promise to enhance your self-mastery and elevate your practice to new heights. \nWe look forward to you joining us on this momentous occasion. \nLimited to the first 50 respondents. \nFor more information contact: marija@shiftideas.co.za
URL:https://veterinary.co.za/event-main/boehringer-ingelheim-animal-health-event-changing-the-face-of-feline-care-2/
LOCATION:The Village Table\, Umhlanga\, KwaZulu-Natal\, 6 Lagoon Drive\, Umhlanga\, Durban\, KwaZulu-Natal\, 4320\, South Africa
CATEGORIES:In-Person Event
ATTACH;FMTTYPE=image/jpeg:https://veterinary.co.za/wp-content/uploads/2024/08/boehringer-ingelheim-product-launch.jpg
END:VEVENT
BEGIN:VEVENT
DTSTART;TZID=Europe/Helsinki:20240904T183000
DTEND;TZID=Europe/Helsinki:20240904T200000
DTSTAMP:20260422T023131
CREATED:20240813T065357Z
LAST-MODIFIED:20240814T072604Z
UID:10000105-1725474600-1725480000@veterinary.co.za
SUMMARY:Librela Discussion with Dr Kenneth Joubert
DESCRIPTION:Subject: Librela Discussion\nSpeakers: Dr Kenneth Joubert\nOrganizer: Zoetis\nEvent Link: jan.pretorius@zoetis.com \nPlease join Dr Kenneth Joubert and Zoetis for an Evening Talk about Librela\nSeptember the 4th 6:30PM at Ashburne Veterinary Clinic\nDinner will be provided\nPlease RSVP Jan no later than the 15th August as space is limited to 25 \n\n 
URL:https://veterinary.co.za/event-main/librela-a-new-era-in-pain-management-3/
LOCATION:Ashburne Veterinary Clinic\, Durban\, KwaZulu-Natal\, 32 Burne Cres\, Glen Ashley\, Durban North\, KwaZulu-Natal\, 4051\, South Africa
CATEGORIES:In-Person Event
ATTACH;FMTTYPE=image/jpeg:https://veterinary.co.za/wp-content/uploads/2024/08/librela-discussion-ashburne.jpg
END:VEVENT
BEGIN:VEVENT
DTSTART;TZID=Europe/Helsinki:20240904T190000
DTEND;TZID=Europe/Helsinki:20240904T203000
DTSTAMP:20260422T023131
CREATED:20240812T194424Z
LAST-MODIFIED:20240812T203649Z
UID:10000102-1725476400-1725481800@veterinary.co.za
SUMMARY:SAVA JHB Branch: Paws & Parasites: Uncovering Hidden Threats in Pets
DESCRIPTION:Subject: Paws & Parasites: Uncovering Hidden Threats in Pets\nSpeakers: Dr Vanessa McClure\nOrganizer: SAVA JHB Branch\nEvent Link: REGISTER HERE \nIN PERSON EVENT | 19:00 CAT | Johannesburg Country Club\, Woodmead \nSpeaker: Dr Vanessa McClure| Topic: Paws & Parasites: Uncovering Hidden Threats in Pets | Proudly Sponsored by Boehringer Ingelheim \n\n 
URL:https://veterinary.co.za/event-main/sava-jhb-branch-paws-parasites-uncovering-hidden-threats-in-pets/
LOCATION:Johannesburg Country Club\, Woodmead\, Gauteng\, Cnr Woodland Drive & Lincoln Street\, Woodmead\, Sandton\, 2128\, Johannesburg\, Gauteng\, South Africa
CATEGORIES:In-Person Event
ATTACH;FMTTYPE=image/jpeg:https://veterinary.co.za/wp-content/uploads/2024/04/SAVA-JHB-branch1-1.jpg
END:VEVENT
BEGIN:VEVENT
DTSTART;TZID=Europe/Helsinki:20240904T190000
DTEND;TZID=Europe/Helsinki:20240904T203000
DTSTAMP:20260422T023131
CREATED:20240814T071540Z
LAST-MODIFIED:20241026T215312Z
UID:10000106-1725476400-1725481800@veterinary.co.za
SUMMARY:3D Printing and Veterinary Science
DESCRIPTION:Subject: 3D Printing and Veterinary Science\nSpeakers: Dr Klaas-Jan van de Wetering\nOrganizer: Valley Farm Animal Hospital\nEvent Link: referrals@valleyfarmvet.co.za \nVALLEY FARM ANIMAL HOSPITAL – CONTINUING PROFESSIONAL DEVELOPMENT \n3D Printing and Veterinary Science\nPresented by Dr Klaas-Jan van de Wetering BVSc MMedVet(Surg)\nWednesday 4th September 7pm for 7.30pm\nSupper will be served\nValley Farm Animal Hospital\, 829 Old Farm Road Faerie Glen\, Pretoria\nSeats are limited\nTo RSVP please send name and SAVC registration number for each delegate to referrals@valleyfarmvet.co.za\nCPD accreditation pending
URL:https://veterinary.co.za/event-main/3d-printing-and-veterinary-science/
LOCATION:Valley Farm Animal Hospital\, Pretoria\, Gauteng\, 829 Old Farm Rd\, Faerie Glen\, Pretoria\, Gauteng\, 0043\, South Africa
CATEGORIES:In-Person Event
ATTACH;FMTTYPE=image/jpeg:https://veterinary.co.za/wp-content/uploads/2024/08/valleyfarm-3d-printer.jpg
END:VEVENT
BEGIN:VEVENT
DTSTART;TZID=Europe/Helsinki:20240905T183000
DTEND;TZID=Europe/Helsinki:20240905T213000
DTSTAMP:20260422T023131
CREATED:20240830T205140Z
LAST-MODIFIED:20240830T205416Z
UID:10000113-1725561000-1725571800@veterinary.co.za
SUMMARY:Boehringer Ingelheim Animal Health Event - Changing the Face of Feline Care! [Pretoria]
DESCRIPTION:Subject: Boehringer Ingelheim Animal Health Event – Changing the Face of Feline Care!\nSpeakers: Multiple\nOrganizer: Boehringer Ingelheim\nEvent Link: REGISTER HERE \nDear Valued Partner\, Boehringer-Ingelheim Animal Health is excited to invite you to this event which will be the perfect occasion to exchange ideas\, connect with peers\, and experience two days of compelling insights and valuable knowledge\, highlighted by a memorable Saturday night. \nEvent Overview:\nThe next generation of parasite control is ready to pounce. Join us for an extra-ordinary event that delves into the captivating world of feline ecto- and endoparasites\, introducing a ground-breaking solution in feline care. By bringing together global veterinary professionals and experts\, this momentous occasion will be a journey of discovery and innovation.\nDiscover our all-in-one solution that offers unparalleled protection.\nWe have also planned insightful sessions that promise to enhance your self-mastery and elevate your practice to new heights. \nWe look forward to you joining us on this momentous occasion. \nLimited to the first 50 respondents. \nFor more information contact: marija@shiftideas.co.za
URL:https://veterinary.co.za/event-main/boehringer-ingelheim-animal-health-event-changing-the-face-of-feline-care-pretoria/
LOCATION:Protea Hotel Fire & Ice by Marriott\, Pretoria\, Gauteng\, Summit Place Precinct\, 221 Garsfontein Rd\, Pretoria\, 0181\, Pretoria\, Gauteng\, South Africa
CATEGORIES:In-Person Event
ATTACH;FMTTYPE=image/jpeg:https://veterinary.co.za/wp-content/uploads/2024/08/boehringer-ingelheim-product-launch.jpg
END:VEVENT
BEGIN:VEVENT
DTSTART;TZID=Europe/Helsinki:20240906T080000
DTEND;TZID=Europe/Helsinki:20240907T170000
DTSTAMP:20260422T023131
CREATED:20240605T200515Z
LAST-MODIFIED:20240711T183958Z
UID:10000079-1725609600-1725728400@veterinary.co.za
SUMMARY:SAVA Eastern Free State Branch Congress
DESCRIPTION:Subject: SAVA Eastern Free State Branch Congress\nSpeakers: Multiple\nOrganizer: Savetcon\nEvent Link: REGISTER
URL:https://veterinary.co.za/event-main/sava-eastern-free-state-branch-congress-2024-save-the-date/
LOCATION:Protea Hotel Clarens\, Free State\, Corner Of Main &\, Van Der Merwe St\, Clarens\, Free State\, 9707\, South Africa
CATEGORIES:In-Person Event
ATTACH;FMTTYPE=image/jpeg:https://veterinary.co.za/wp-content/uploads/2024/06/eastern-free-state-sava-congress-scaled.jpg
END:VEVENT
BEGIN:VEVENT
DTSTART;TZID=Europe/Helsinki:20240907T080000
DTEND;TZID=Europe/Helsinki:20240907T170000
DTSTAMP:20260422T023131
CREATED:20240711T183147Z
LAST-MODIFIED:20240828T193506Z
UID:10000086-1725696000-1725728400@veterinary.co.za
SUMMARY:SAVA Eastern Cape and Karoo Branch CPD Day
DESCRIPTION:Subject: SAVA Eastern Cape and Karoo Branch CPD Day\nSpeakers: Multiple\nOrganizer: Vetlink\nEvent Link: REGISTER HERE \nThe Eastern Cape & Karoo Branch CPD Day\, scheduled for 7 September 2024 at Dolphins Leap\, Port Elizabeth\, is organised to provide CPD to veterinarians\, reconnect with industry colleagues and friends and provide opportunity to be updated on developments from our trade partners \n 
URL:https://veterinary.co.za/event-main/sava-eastern-cape-and-karoo-branch-cpd-day-save-the-date/
LOCATION:Dolphins Leap\, Port Elizabeth\, Eastern Cape\, 35 Humewood Road\, Port Elizabeth\, Eastern Cape\, 6013\, South Africa
CATEGORIES:In-Person Event
ATTACH;FMTTYPE=image/jpeg:https://veterinary.co.za/wp-content/uploads/2024/07/eastern-cape-and-karoo-sava.jpg
END:VEVENT
BEGIN:VEVENT
DTSTART;TZID=Europe/Helsinki:20240912T193000
DTEND;TZID=Europe/Helsinki:20240912T210000
DTSTAMP:20260422T023131
CREATED:20240828T182401Z
LAST-MODIFIED:20240829T143411Z
UID:10000108-1726169400-1726174800@veterinary.co.za
SUMMARY:Fostering Client Growth and Loyalty: Strategies for Effective Marketing
DESCRIPTION:Subject: Fostering Client Growth and Loyalty: Strategies for Effective Marketing\nSpeakers: Eric Garcia\nOrganizer: Savetcon\nEvent Link: REGISTER HERE \nDuring this session we will take a deep dive into the art of cultivating a thriving client base through strategic marketing techniques. \nExplore innovative approaches to attract new customers while nurturing existing relationships for enduring loyalty. Through engaging case studies and actionable insights\, you’ll learn how to craft compelling messaging\, personalize interactions\, and create memorable experiences that resonate with your audience. \nUncover the secrets of building a brand that customers can’t help but advocate for. This session equips you with the tools to elevate your marketing strategies\, fostering client growth and loyalty that drive sustained success in today’s competitive landscape. \nAbout our speaker \nEric D. Garcia \nWhen it comes to helping veterinary practices streamline their technology and attract and retain clients\, Eric Garcia has a proven track record of educating the industry and producing results. \nEric is an internationally recognized IT and Digital Strategist working exclusively within the field of veterinary medicine. Garcia’s work has been recognized throughout the industry. \nEric was voted VMX 2020 Speaker of the Year by conference attendees. He speaks regularly at conferences all throughout the world.
URL:https://veterinary.co.za/event-main/fostering-client-growth-and-loyalty-strategies-for-effective-marketing/
LOCATION:Webinar\, *Online\, South Africa
CATEGORIES:*Webinar
ATTACH;FMTTYPE=image/jpeg:https://veterinary.co.za/wp-content/uploads/2024/06/hills-enrichment-series.jpg
END:VEVENT
BEGIN:VEVENT
DTSTART;TZID=Europe/Helsinki:20240914T090000
DTEND;TZID=Europe/Helsinki:20240914T150000
DTSTAMP:20260422T023131
CREATED:20240709T212613Z
LAST-MODIFIED:20240709T212613Z
UID:10000085-1726304400-1726326000@veterinary.co.za
SUMMARY:No Hoof No Horse Symposium
DESCRIPTION:Subject: No Hoof No Horse Symposium\nSpeakers: Dr Andrew Gray & Robbie Miller\nOrganizer: National Reining Horse Association South Africa\nEvent Link: REGISTER HERE \nJoin us for an informative day with two of the best in their field as they delve into soundness of the sport horse.\nRobbie and Andrew will help us understand what it takes to keep our horses sound and happy.\nFrom the foot with trimming and shoeing\, to the leg\, covering injuries\, tendons & ligaments\, surgeries\, rehabilitation and much more.\nQ&A.\nCheese and wine.\nLive music! \n\n 
URL:https://veterinary.co.za/event-main/no-hoof-no-horse-symposium/
LOCATION:Garland Stud\, Philapdelphia\, Western Cape\, 95 Three Fountains Rd\, Cape Farms\, Philadelphia\, Western Cape\, 7304\, South Africa
CATEGORIES:In-Person Event
ATTACH;FMTTYPE=image/jpeg:https://veterinary.co.za/wp-content/uploads/2024/07/nrhasa-hoof-symposium-scaled.jpg
END:VEVENT
BEGIN:VEVENT
DTSTART;TZID=Europe/Helsinki:20240917T193000
DTEND;TZID=Europe/Helsinki:20240917T210000
DTSTAMP:20260422T023131
CREATED:20240828T182723Z
LAST-MODIFIED:20240829T143322Z
UID:10000109-1726601400-1726606800@veterinary.co.za
SUMMARY:Puppy Pruritus - Stopping the itch early
DESCRIPTION:Subject: Puppy Pruritus – Stopping the itch early\nSpeakers: Dr Becky Mullis\nOrganizer: Savetcon\nEvent Link: REGISTER HERE \nNutrition is important in the management of allergic skin diseases\, such as atopic dermatitis and food allergies. When these conditions are diagnosed in puppies\, it is essential that the food selected to help manage their skin condition provides all the key nutrients necessary for optimal growth and development. We will discuss the frequency that these conditions are seen in puppies and how nutrition can support both skin health and growth. \nDuring this webinar we’ll also be launching an exciting new product in the Prescription Diet Derm range\, so please join us to hear all about it! \nAbout our speaker \nDr Becky Mullis \nDr Becky Mullis is a Board Certified Veterinary Nutritionist in the American College of Veterinary Internal Medicine. She received her BS in Animal Science from the University of Maryland and her DVM from the University of Tennessee. After graduation\, she completed a private practice rotating internship and worked as an emergency veterinarian. After a few years\, she returned to the University of Tennessee where she completed a residency in clinical nutrition. Dr Mullis is currently Senior Manager Scientific Affairs with Hill’s Pet Nutrition.
URL:https://veterinary.co.za/event-main/puppy-pruritus-stopping-the-itch-early/
LOCATION:Webinar\, *Online\, South Africa
CATEGORIES:*Webinar
ATTACH;FMTTYPE=image/jpeg:https://veterinary.co.za/wp-content/uploads/2024/06/hills-enrichment-series.jpg
END:VEVENT
BEGIN:VEVENT
DTSTART;TZID=Europe/Helsinki:20240919T190000
DTEND;TZID=Europe/Helsinki:20240919T200000
DTSTAMP:20260422T023131
CREATED:20240812T210722Z
LAST-MODIFIED:20240812T210758Z
UID:10000103-1726772400-1726776000@veterinary.co.za
SUMMARY:Proactive Approach to Diagnosing and Managing Canine CDS
DESCRIPTION:Subject: Proactive Approach to Diagnosing and Managing Canine CDS\nSpeakers: Tom Cardy\, Margaret E. Gruen\, Andrew Sparkes\nOrganizer: Purina\nEvent Link: REGISTER HERE \nLearn how every meal provides an opportunity to promote brain health.\nAging in dogs and cats results in many metabolic\, functional\, and physical changes in the brain that\, if severe\, lead to cognitive dysfunction syndrome (CDS). Many age-related changes are undesirable\, potentially irreversible\, and decrease the quality of life for pets and their owners. \nEvery meal can become a brain health-promoting tool when an aging pet’s diet includes specific key nutrients that target age-related changes. \nWhat you will learn\nBy attending this webinar\, you will gain a greater understanding of the following:\nThe role of the gut microbiome\, oxidative stress\, inflammation\, and alternative metabolic pathways in the pathophysiology\, progression\, and management of cognitive dysfunction syndrome.\nNutritional interventions and dietary supplements—including antioxidants\, omega-3 fatty acids\, medium-chain triglycerides\, and other specific nutrients—that have been studied for their effects on cognitive function\, brain health\, and canine CDS.\nSelection of appropriate dietary interventions and supplements based on patient age\, health status\, and cognitive function\, and how to introduce these in client conversations.\nHow to monitor and assess a dog’s response to nutritional management of canine CDS\, including how to evaluate changes in cognitive function\, behavior\, and quality of life.\nThe importance of regular follow-up and adjustments to a patient’s nutritional plan based on a dog’s response and ongoing clinical assessment.
URL:https://veterinary.co.za/event-main/proactive-approach-to-diagnosing-and-managing-canine-cds/
LOCATION:Webinar\, *Online\, South Africa
CATEGORIES:*Webinar
ATTACH;FMTTYPE=image/jpeg:https://veterinary.co.za/wp-content/uploads/2024/08/purina-canine-cds-scaled.jpg
END:VEVENT
BEGIN:VEVENT
DTSTART;TZID=Europe/Helsinki:20240920T073000
DTEND;TZID=Europe/Helsinki:20240923T170000
DTSTAMP:20260422T023131
CREATED:20240425T191526Z
LAST-MODIFIED:20240524T210821Z
UID:10000053-1726817400-1727110800@veterinary.co.za
SUMMARY:8th World One Health Congress
DESCRIPTION:Subject: 8th World One Health Congress\nSpeakers: Refer to Congress Schedule on website\nOrganizer: Vetlink\nEvent Link: REGISTER HERE \n\nThe global One Health Community is organizing the 8th World One Health Congress in Cape Town\n20 September – 23 September 2024\n\n\nThe Congress foresees four days of an outstanding\, exceptional and forward-thinking agenda\, which includes parallel tracks addressing one health science\, antimicrobial agents and resistance\, and science policy interface\, amongst others. \nIt will enable discussing major One Health challenges\, as well as sharing research data and policy developments. Above all\, it will provide a great opportunity to look at global One Health science and policy through an African lens. Through an open call for abstracts\, notable work from distinguished scientists and opinion leaders will be disseminated at the world’s largest forum dedicated to advancing the One Health agenda and community. \nBuilding on the success of the 7th World One Health Congress in 2022 in Singapore\, it will bring together One Health stakeholders\, from science researchers\, policymakers\, representatives of international institutions\, civil society to the private sector from around the world.
URL:https://veterinary.co.za/event-main/8th-world-one-health-congress/
LOCATION:Cape Town International Convention Centre\, Western Cape\, Convention Square\, 1 Lower Long Street\, Cape Town\, Western Cape\, 8001\, South Africa
CATEGORIES:In-Person Event
ATTACH;FMTTYPE=image/jpeg:https://veterinary.co.za/wp-content/uploads/2024/04/8th-World-One-Health-Congress-1-scaled.jpg
END:VEVENT
BEGIN:VEVENT
DTSTART;TZID=Europe/Helsinki:20240930T120000
DTEND;TZID=Europe/Helsinki:20240930T130000
DTSTAMP:20260422T023131
CREATED:20240910T104700Z
LAST-MODIFIED:20241003T214150Z
UID:10000114-1727697600-1727701200@veterinary.co.za
SUMMARY:SAVC: How do I... thrive instead of just surviving?
DESCRIPTION:Subject: How do I… thrive instead of just surviving?\nSpeakers: Dr Monica van Niekerk (Psychologist)\nOrganizer: SAVC\nEvent Link: REGISTER HERE \nBuilding Your Resilience: Master the Art of Bouncing Forward –\nDiscover practical tools and strategies to thrive beyond adversity. \nSpeaker: Dr Monica van Niekerk\, Psychologist\nMonica serves as the postgraduate student advisor at Onderstepoort and support students at various stages of their academic journey. As a psychologist she is dedicated to support and help people and are driven by her passion for making a positive impact on their lives. \n\n 
URL:https://veterinary.co.za/event-main/savc-how-do-i-thrive-instead-of-just-surviving/
LOCATION:Webinar\, *Online\, South Africa
CATEGORIES:*Webinar
ATTACH;FMTTYPE=image/jpeg:https://veterinary.co.za/wp-content/uploads/2024/09/savc-how-do-i-thrive-scaled.jpg
END:VEVENT
END:VCALENDAR