BEGIN:VCALENDAR
VERSION:2.0
PRODID:-//Veterinary.co.za - ECPv6.2.3.2//NONSGML v1.0//EN
CALSCALE:GREGORIAN
METHOD:PUBLISH
X-WR-CALNAME:Veterinary.co.za
X-ORIGINAL-URL:https://veterinary.co.za
X-WR-CALDESC:Events for Veterinary.co.za
REFRESH-INTERVAL;VALUE=DURATION:PT1H
X-Robots-Tag:noindex
X-PUBLISHED-TTL:PT1H
BEGIN:VTIMEZONE
TZID:Europe/Helsinki
BEGIN:DAYLIGHT
TZOFFSETFROM:+0200
TZOFFSETTO:+0300
TZNAME:EEST
DTSTART:20240331T010000
END:DAYLIGHT
BEGIN:STANDARD
TZOFFSETFROM:+0300
TZOFFSETTO:+0200
TZNAME:EET
DTSTART:20241027T010000
END:STANDARD
END:VTIMEZONE
BEGIN:VEVENT
DTSTART;TZID=Europe/Helsinki:20240829T093000
DTEND;TZID=Europe/Helsinki:20240829T120000
DTSTAMP:20260422T041150
CREATED:20240731T014112Z
LAST-MODIFIED:20240830T160603Z
UID:10000098-1724923800-1724932800@veterinary.co.za
SUMMARY:Book Launch - Vaccines and Immunisation of Farm Animals\, by Drs Jan du Preez and Faffa Malan
DESCRIPTION:Subject: Book Launch – Vaccines and Immunisation of Farm Animals by\, Drs Jan du Preez and Faffa Malan\nSpeakers: Drs Jan du Preez and Faffa Malan\nOrganizer: Design Biologix\nEvent Link: REGISTER HERE \nThe Director and CEO of Design Biologix\, Karen Nel\, along with the author\, Dr Faffa Malan\, would\nlike to invite you to attend an introduction to the 2024 edition of Vaccines and Immunisation of\nFarm Animals\, by Drs Jan du Preez and Faffa Malan. \nDATE | Thursday\, 29 August 2024 \nTIME | 09:30 for 10:00 \nVENUE | Design Biologix\, 442 Rigel Avenue\, Erasmusrand\, Pretoria\, 0181 \nDRESS | Office wear | Refreshments will be served \nRSVP | By 21 Augustus 2024 \nCLICK HERE to RSVP – agriculturalwriterssa@gmail.com \n 
URL:https://veterinary.co.za/event-main/book-launch-vaccines-and-immunisation-of-farm-animals-by-drs-jan-du-preez-and-faffa-malan/
LOCATION:Design Biologix\, Pretoria\, Gauteng\, 442 Rigel Avenue\, Erasmusrand\, Pretoria\, Gauteng\, 0181\, South Africa
CATEGORIES:In-Person Event
ATTACH;FMTTYPE=image/jpeg:https://veterinary.co.za/wp-content/uploads/2024/07/design-biologix-book-launch-scaled.jpg
END:VEVENT
END:VCALENDAR