BEGIN:VCALENDAR
VERSION:2.0
PRODID:-//Veterinary.co.za - ECPv6.2.3.2//NONSGML v1.0//EN
CALSCALE:GREGORIAN
METHOD:PUBLISH
X-WR-CALNAME:Veterinary.co.za
X-ORIGINAL-URL:https://veterinary.co.za
X-WR-CALDESC:Events for Veterinary.co.za
REFRESH-INTERVAL;VALUE=DURATION:PT1H
X-Robots-Tag:noindex
X-PUBLISHED-TTL:PT1H
BEGIN:VTIMEZONE
TZID:Europe/Helsinki
BEGIN:DAYLIGHT
TZOFFSETFROM:+0200
TZOFFSETTO:+0300
TZNAME:EEST
DTSTART:20240331T010000
END:DAYLIGHT
BEGIN:STANDARD
TZOFFSETFROM:+0300
TZOFFSETTO:+0200
TZNAME:EET
DTSTART:20241027T010000
END:STANDARD
END:VTIMEZONE
BEGIN:VEVENT
DTSTART;TZID=Europe/Helsinki:20240821T080000
DTEND;TZID=Europe/Helsinki:20240823T160000
DTSTAMP:20260422T054331
CREATED:20240430T073622Z
LAST-MODIFIED:20240524T205757Z
UID:10000057-1724227200-1724428800@veterinary.co.za
SUMMARY:Southern African Society for Veterinary Epidemiology and Preventive Medicine (SASVEPM): 21st Annual Congress
DESCRIPTION:Subject: SASVEPM: 21st Annual Congress\nSpeakers: Multiple Speakers\nOrganizer: Vetlink\nEvent Link: REGISTER HERE \nThe Southern African Society for Veterinary Epidemiology and Preventive Medicine (SASVEPM) is pleased to announce its 21st Annual Congress\, which will take place from 21 to 23 August 2024 at the Lagoon Beach Hotel\, Cape Town. \nEpi for Africa: Global Problems | Local Solutions\nAfrica is arguably the continent at highest risk from infectious diseases\, but often struggles to implement internationally recommended veterinary surveillance and control measures successfully. This is not only due to severe resource limitations and lack of capacity\, but also inexorably linked to the highly heterogeneous nature of our terrain\, peoples\, animals\, and climate. To truly understand the complex eco-epidemiological landscapes of Africa requires creative approaches to data collection and disease surveillance\, holistic control measures\, participatory approaches\, interdisciplinary efforts\, and community involvement. \nThis year’s SASVEPM congress features the unique problems and circumstances faced in animal health and welfare on the African continent and explores practical and sustainable local and regional solutions. We believe that only by developing Afro-centric approaches to address global problems will we have a chance at finding the sustainable solutions we need to flourish as a continent. \nThe 21st SASVEPM congress serves as a strong multinational networking platform to build and foster collaborative research and enhance communication across disciplines\, professions\, and sectors. Join us for this exciting event which brings together veterinarians\, para-veterinarians\, and researchers from the southern African region and beyond. Participants interested in presenting oral or poster presentations are invited to submit abstracts under the theme “Epi for Africa: Global Problems | Local Solutions”.
URL:https://veterinary.co.za/event-main/sasvepm-21st-annual-congress/
LOCATION:Lagoon Beach Hotel\, Cape Town\, Western Cape\, 1 Lagoon Gate Drive\, Lagoon Beach\, Cape Town\, Western Cape\, 7441\, South Africa
CATEGORIES:In-Person Event
ATTACH;FMTTYPE=image/jpeg:https://veterinary.co.za/wp-content/uploads/2024/04/SASVEPM-congress-2024-1-scaled.jpg
END:VEVENT
BEGIN:VEVENT
DTSTART;TZID=Europe/Helsinki:20240823T193000
DTEND;TZID=Europe/Helsinki:20240824T163000
DTSTAMP:20260422T054331
CREATED:20240720T224136Z
LAST-MODIFIED:20240812T204657Z
UID:10000095-1724441400-1724517000@veterinary.co.za
SUMMARY:DIAG iM3: Dental Wetlab
DESCRIPTION:Subject: Canine Radiology\, Extractions and Oronasal Fistulas\nSpeakers: Prof Gerhard Steenkamp & Dr Roxanne Emslie\nOrganizer: Vetlink\nEvent Link: REGISTER HERE \nLECTURE\nEvening Lecture | Canine Radiology\, Extractions\, and Oronasal Fistulas\nFriday | 23 August 2024 | 19:30 – 22:30 | Onderstepoort\, Pretoria\nBook your WETLAB option during registration ( Lecture plus wetlab 1 am or Lecture plus wetlab 2 pm)\nPRACTICAL WETLAB\nSaturday | 24 August 2024 | Wetlab 1 (am): 08:00- 12:00am or\nSaturday | 24 August 2024 | Wetlab 2 (pm) : 12:30 – 16:30pm \nLecture & Wetlab R3950\nLecture Only R395\nLimited Space Available\nForm more information: retha@diagsa.co.za
URL:https://veterinary.co.za/event-main/diag-im3-dental-wetlab-3/
LOCATION:Onderstepoort\, Pretoria\, Gauteng\, Old Soutpan Road (M35)\, Onderstepoort\, Pretoria\, Gauteng\, 0110\, South Africa
CATEGORIES:In-Person Event
ATTACH;FMTTYPE=image/jpeg:https://veterinary.co.za/wp-content/uploads/2024/07/DIAG-Dental-Wetlab.jpg
END:VEVENT
END:VCALENDAR