BEGIN:VCALENDAR
VERSION:2.0
PRODID:-//Veterinary.co.za - ECPv6.2.3.2//NONSGML v1.0//EN
CALSCALE:GREGORIAN
METHOD:PUBLISH
X-WR-CALNAME:Veterinary.co.za
X-ORIGINAL-URL:https://veterinary.co.za
X-WR-CALDESC:Events for Veterinary.co.za
REFRESH-INTERVAL;VALUE=DURATION:PT1H
X-Robots-Tag:noindex
X-PUBLISHED-TTL:PT1H
BEGIN:VTIMEZONE
TZID:Europe/Helsinki
BEGIN:DAYLIGHT
TZOFFSETFROM:+0200
TZOFFSETTO:+0300
TZNAME:EEST
DTSTART:20240331T010000
END:DAYLIGHT
BEGIN:STANDARD
TZOFFSETFROM:+0300
TZOFFSETTO:+0200
TZNAME:EET
DTSTART:20241027T010000
END:STANDARD
END:VTIMEZONE
BEGIN:VEVENT
DTSTART;TZID=Europe/Helsinki:20240816T193000
DTEND;TZID=Europe/Helsinki:20240817T163000
DTSTAMP:20260422T054940
CREATED:20240720T222334Z
LAST-MODIFIED:20240812T204807Z
UID:10000093-1723836600-1723912200@veterinary.co.za
SUMMARY:DIAG iM3: Dental Wetlab
DESCRIPTION:Subject: Canine Radiology\, Extractions and Oronasal Fistulas\nSpeakers: Prof Gerhard Steenkamp & Dr Roxanne Emslie\nOrganizer: Vetlink\nEvent Link: REGISTER HERE \nLECTURE:\nEvening Lecture | Canine Radiology\, Extractions\, and Oronasal Fistulas\nFriday | 16 August 2024 | 19:30 – 22:30 | Panorama\, Cape Town\nBook your WETLAB option during registration ( Lecture plus wetlab 1 am or Lecture plus wetlab 2 pm)\nPRACTICAL WETLAB\nSaturday | 17 August 2024 | Wetlab 1 (am): 08:00- 12:00am or\nSaturday | 17 August 2024 | Wetlab 2 (pm) : 12:30 – 16:30pm \nLecture & Wetlab R3950\nLecture Only R395\nLimited Space Available\nForm more information: retha@diagsa.co.za
URL:https://veterinary.co.za/event-main/diag-im3-dental-wetlab/
LOCATION:Panorama Veterinary Clinic\, Cape Town\, Western Cape\, Panorama Veterinary Clinic\, 1 Uys Krige Drive\, Kaapzicht\, Cape Town\, Western Cape\, 7500\, South Africa
CATEGORIES:In-Person Event
ATTACH;FMTTYPE=image/jpeg:https://veterinary.co.za/wp-content/uploads/2024/07/DIAG-Dental-Wetlab.jpg
END:VEVENT
BEGIN:VEVENT
DTSTART;TZID=Europe/Helsinki:20240817T080000
DTEND;TZID=Europe/Helsinki:20240817T163000
DTSTAMP:20260422T054940
CREATED:20240801T194915Z
LAST-MODIFIED:20240805T065013Z
UID:10000099-1723881600-1723912200@veterinary.co.za
SUMMARY:Anaesthesia Course with Dr Kenneth Joubert
DESCRIPTION:Subject: Anaesthesia Course\nSpeakers: Dr Kenneth Joubert\nOrganizer: VAACCS\nRSVP: vaaccs@outlook.com \n\n\n\n\n\nThe course is designed for vets\, veterinary nurses and technicians. It covers the basics of the anaesthetic machine\, monitoring and approach to anaesthetising patients from presentation to recovery. What should we think about and how do we prevent complications? This course will cover all the aspects over the day. The course is accredited by the SAVC for 7 CPD points.
URL:https://veterinary.co.za/event-main/anaesthesia-course-with-prof-kenneth-joubert/
LOCATION:Fourways Veterinary Hospital\, Johannesburg\, Gauteng\, Cnr Witkoppen Road and The Straight Street Pineslopes\, Fourways\, Johannesburg\, Gauteng\, 2055\, South Africa
CATEGORIES:In-Person Event
ATTACH;FMTTYPE=image/jpeg:https://veterinary.co.za/wp-content/uploads/2024/08/VAACCS-course-scaled.jpg
END:VEVENT
BEGIN:VEVENT
DTSTART;TZID=Europe/Helsinki:20240817T130000
DTEND;TZID=Europe/Helsinki:20240817T210000
DTSTAMP:20260422T054940
CREATED:20240711T204249Z
LAST-MODIFIED:20240812T204210Z
UID:10000091-1723899600-1723928400@veterinary.co.za
SUMMARY:Mastering Ultrasound Course with Prof Johan Schoemann
DESCRIPTION:Subject: Basic and advanced ultrasound CPD courses\nSpeakers: Prof Johan Schoemann\nOrganizer: Lomaen Medical\nLink: REGISTER HERE \n\n\n\n\nCourse 1\nBasic Abdominal Ultrasound Techniques for the small animal practitioner\n3 hour practical course\n(Max. 20 delegates) \nSaturday\, 17  August 2024\, 13:00 – 16:00\nCost: R3000 \nMastering the basic abdominal ultrasound examination is an essential skill for the small animal practitioner. The following topics and principles will be covered during an hour-long demonstration on a live dog. This will be followed by a 2 hour session during which the learning will be re-enforced\, with all participants practicing the demonstrated techniques and watching colleagues practice the techniques on live dogs. \n\n\nCourse 2\nAdvanced Abdominal Ultrasound Techniques and Point-of-Care Ultrasound (combined course) for the small animal practitioner\n4 hour practical course\n(Max. 20 delegates) \nSaturday\, 17 August 2024\, 17:00 – 21:00\nCost: R4500 \nThis course is for practitioners with a good working knowledge of basic abdominal ultrasound. Advanced abdominal ultrasound examination and POCUS techniques are essential skills for the small animal practitioner wishing to make expedient diagnoses of\, inter alia\, adrenal and pancreatic disease and in the assessment of critically ill patients. Advanced abdominal imaging and point of care imaging will be covered during an hour-long demonstration on a live dog. This will be followed by a 3 hour session during which the learning will be re-enforced\, with all participants practicing the demonstrated techniques and watching colleagues practice the techniques on live dogs.
URL:https://veterinary.co.za/event-main/mastering-ultrasound-course-with-prof-johan-schoemann-3/
LOCATION:Greenside Animal Hospital\, Randburg\, Gauteng\, Greenside Animal Hospital\, Randburg\, Gauteng\, 2193
CATEGORIES:In-Person Event
ATTACH;FMTTYPE=image/jpeg:https://veterinary.co.za/wp-content/uploads/2024/07/mastering-ultrasound-greenside.jpg
END:VEVENT
END:VCALENDAR