BEGIN:VCALENDAR
VERSION:2.0
PRODID:-//Veterinary.co.za - ECPv6.2.3.2//NONSGML v1.0//EN
CALSCALE:GREGORIAN
METHOD:PUBLISH
X-WR-CALNAME:Veterinary.co.za
X-ORIGINAL-URL:https://veterinary.co.za
X-WR-CALDESC:Events for Veterinary.co.za
REFRESH-INTERVAL;VALUE=DURATION:PT1H
X-Robots-Tag:noindex
X-PUBLISHED-TTL:PT1H
BEGIN:VTIMEZONE
TZID:Europe/Helsinki
BEGIN:DAYLIGHT
TZOFFSETFROM:+0200
TZOFFSETTO:+0300
TZNAME:EEST
DTSTART:20240331T010000
END:DAYLIGHT
BEGIN:STANDARD
TZOFFSETFROM:+0300
TZOFFSETTO:+0200
TZNAME:EET
DTSTART:20241027T010000
END:STANDARD
END:VTIMEZONE
BEGIN:VEVENT
DTSTART;TZID=Europe/Helsinki:20240807T193000
DTEND;TZID=Europe/Helsinki:20240807T203000
DTSTAMP:20260422T054232
CREATED:20240413T192036Z
LAST-MODIFIED:20240812T203733Z
UID:10000049-1723059000-1723062600@veterinary.co.za
SUMMARY:SAVA JHB Branch: Liver disease-diagnostic approach and management
DESCRIPTION:Subject: Liver disease-diagnostic approach and management\nSpeakers: Dr Remo Lobetti\nOrganizer: SAVA Johannesburg Branch\nEvent Link: REGISTER HERE
URL:https://veterinary.co.za/event-main/liver-disease-diagnostic-approach-and-management/
LOCATION:Webinar\, *Online\, South Africa
CATEGORIES:*Webinar
ATTACH;FMTTYPE=image/jpeg:https://veterinary.co.za/wp-content/uploads/2024/04/SAVA-JHB-branch1-1.jpg
END:VEVENT
END:VCALENDAR