BEGIN:VCALENDAR
VERSION:2.0
PRODID:-//Veterinary.co.za - ECPv6.2.3.2//NONSGML v1.0//EN
CALSCALE:GREGORIAN
METHOD:PUBLISH
X-WR-CALNAME:Veterinary.co.za
X-ORIGINAL-URL:https://veterinary.co.za
X-WR-CALDESC:Events for Veterinary.co.za
REFRESH-INTERVAL;VALUE=DURATION:PT1H
X-Robots-Tag:noindex
X-PUBLISHED-TTL:PT1H
BEGIN:VTIMEZONE
TZID:Europe/Helsinki
BEGIN:DAYLIGHT
TZOFFSETFROM:+0200
TZOFFSETTO:+0300
TZNAME:EEST
DTSTART:20240331T010000
END:DAYLIGHT
BEGIN:STANDARD
TZOFFSETFROM:+0300
TZOFFSETTO:+0200
TZNAME:EET
DTSTART:20241027T010000
END:STANDARD
END:VTIMEZONE
BEGIN:VEVENT
DTSTART;TZID=Europe/Helsinki:20240728T080000
DTEND;TZID=Europe/Helsinki:20240728T160000
DTSTAMP:20260422T054233
CREATED:20240412T194707Z
LAST-MODIFIED:20240426T184123Z
UID:10000047-1722153600-1722182400@veterinary.co.za
SUMMARY:Khula Vet: Hospital Assistant Workshop - Pretoria
DESCRIPTION:Subject: Hospital Assistant Workshop\nSpeakers: See Programme for Details\nOrganizer: Khula Vet\nEvent Link: REGISTER HERE \n\n  Veterinary Practices in Pretoria! \n\n\nElevate your hospital assistants’ knowledge and skills with a unique\, full-day workshop hosted by Khula\, designed specifically to empower your kennel assistants through advanced training and practical experience.\n\n\n Date: Sunday\, 28 July 2024\n Time: 08h00 – 16h00\n Venue: Wierdabrug Animal Hospital\, 37 Vinstra Rd\, Valhalla\, Centurion\n Course Fee: R895 (incl VAT) per attendee\n\n\nCOURSE OUTLINE\nStress-Free Patient Handling & Restraint Techniques\n*Explore differences in stress metabolism between cats  and dogs .\n*Recognise signs of canine aggression\, and master restraint techniques tailored to dog sizes. \n*Learn about reducing stress for hospitalised cats and effective feline handling. \n*Group discussion on best practices. \n\n\nDiagnostic Imaging\n*Dive into how an X-ray machine works.\n*Understand critical aspects of radiology safety including protective gear and technique. \n*Learn essentials of correct positioning and collimation for various anatomical areas. \n\n\nPrepping for Surgery & Working in Theatre\n*Gold standard practice for setting up theatre\, anaesthetic machine\, and induction area. \n*Clipper care\, care of surgical instruments\, and sterilisation of theatre packs. \n*Surgical site preparation and sterile practices in theatre. \n*Supporting the vet and vet nurse during anaesthetic induction\, monitoring\, and recovery. \n\n\nPatient Care & Biosecurity\n*Zoonotic diseases with a focus on Rabies. \n*Biosecurity with a focus on Parvovirus. \n*Patient care\, understanding when to alert the vet or vet nurse. \n*Hospital patient nutrition.\n\n\nEach station is designed to enhance practical skills and theoretical knowledge\, ensuring hospital assistants leave with a comprehensive understanding and improved capabilities in veterinary support. \n\n\n With Gratitude to Our Sponsors: We’re able to offer this comprehensive workshop at a subsidised fee thanks to Hill’s Pet Nutrition and Elanco South Africa. Their support enables more practices to afford this investment in staff development.\n\n\n Register using the link below:\nhttps://control.mailblaze.com/…/rg8495kdbo8ae/subscribe\n\n\nRegistration closes: 15th May 2024\n\n\nJoin us for a transformative day where all attendees\, from veterans to newcomers\, leave with new skills\, insights\, and a renewed passion in patient care. Let’s make a positive impact together!
URL:https://veterinary.co.za/event-main/khula-vet-hospital-assistant-workshop-pretoria/
LOCATION:Wierdabrug Animal Hospital\, Centurion\, Gauteng\, Wierdabrug Animal Hospital\, 37 Vinstra Rd\, Valhalla\, Centurion\, Gauteng\, 0185\, South Africa
CATEGORIES:In-Person Event
ATTACH;FMTTYPE=image/jpeg:https://veterinary.co.za/wp-content/uploads/2024/04/khula-vet.jpg
END:VEVENT
BEGIN:VEVENT
DTSTART;TZID=Europe/Helsinki:20240730T193000
DTEND;TZID=Europe/Helsinki:20240730T210000
DTSTAMP:20260422T054233
CREATED:20240724T202410Z
LAST-MODIFIED:20240724T203046Z
UID:10000096-1722367800-1722373200@veterinary.co.za
SUMMARY:Osteoarthritis From A Surgical Perspective
DESCRIPTION:Subject: Osteoarthritis from a Surgical Perspective\nSpeakers: Dr Peter Guy\nOrganizer: Savetcon \nEvent Link: REGISTER HERE \nWe are delighted to bring you a webinar\, presented by Dr Peter Guy\, highlighting the benefits of a multimodal approach to Osteoarthritis. We will dig into how using Zoetis Librela and Hill’s Mobility Prescription Diets together gives an OA patient the highest level of care. \n 
URL:https://veterinary.co.za/event-main/osteoarthritis-from-a-surgical-perspective/
LOCATION:Webinar\, *Online\, South Africa
CATEGORIES:*Webinar
ATTACH;FMTTYPE=image/jpeg:https://veterinary.co.za/wp-content/uploads/2024/07/hills-zoetis-osteoarthritis-scaled.jpg
END:VEVENT
BEGIN:VEVENT
DTSTART;TZID=Europe/Helsinki:20240731T180000
DTEND;TZID=Europe/Helsinki:20240731T193000
DTSTAMP:20260422T054233
CREATED:20240725T084220Z
LAST-MODIFIED:20240725T084558Z
UID:10000097-1722448800-1722454200@veterinary.co.za
SUMMARY:Veterinary Stem Cell Therapy Webinar
DESCRIPTION:Subject: A Practical Option for Every Veterinarian in Daily Patient Care\nSpeakers: Dr Russell Chandler & Dr Ana Ivanovska\nOrganizer: V-Tech & Vet Renew\nEvent Link: REGISTER HERE \n  \n 
URL:https://veterinary.co.za/event-main/veterinary-stem-cell-therapy-webinar/
LOCATION:Skukuza\, Kruger National Park\, Mpumalanga\, Skukuza\, Kruger National Park\, Skukuza\, Mpumalanga\, 1350\, South Africa
CATEGORIES:*Webinar
ATTACH;FMTTYPE=image/jpeg:https://veterinary.co.za/wp-content/uploads/2024/07/vetch-vet-renew-scaled.jpg
END:VEVENT
END:VCALENDAR